BEGIN:VCALENDAR
VERSION:2.0
PRODID:-//the timeless wonder - ECPv6.15.13//NONSGML v1.0//EN
CALSCALE:GREGORIAN
METHOD:PUBLISH
X-ORIGINAL-URL:https://thetimelesswonder.com/?lang=en
X-WR-CALDESC:Events for the timeless wonder
REFRESH-INTERVAL;VALUE=DURATION:PT1H
X-Robots-Tag:noindex
X-PUBLISHED-TTL:PT1H
BEGIN:VTIMEZONE
TZID:Europe/Berlin
BEGIN:DAYLIGHT
TZOFFSETFROM:+0100
TZOFFSETTO:+0200
TZNAME:CEST
DTSTART:20250330T010000
END:DAYLIGHT
BEGIN:STANDARD
TZOFFSETFROM:+0200
TZOFFSETTO:+0100
TZNAME:CET
DTSTART:20251026T010000
END:STANDARD
BEGIN:DAYLIGHT
TZOFFSETFROM:+0100
TZOFFSETTO:+0200
TZNAME:CEST
DTSTART:20260329T010000
END:DAYLIGHT
BEGIN:STANDARD
TZOFFSETFROM:+0200
TZOFFSETTO:+0100
TZNAME:CET
DTSTART:20261025T010000
END:STANDARD
BEGIN:DAYLIGHT
TZOFFSETFROM:+0100
TZOFFSETTO:+0200
TZNAME:CEST
DTSTART:20270328T010000
END:DAYLIGHT
BEGIN:STANDARD
TZOFFSETFROM:+0200
TZOFFSETTO:+0100
TZNAME:CET
DTSTART:20271031T010000
END:STANDARD
END:VTIMEZONE
BEGIN:VEVENT
DTSTART;TZID=Europe/Berlin:20260424T200000
DTEND;TZID=Europe/Berlin:20260424T210000
DTSTAMP:20260424T001633
CREATED:20230228T155633Z
LAST-MODIFIED:20260416T134438Z
UID:6154-1777060800-1777064400@thetimelesswonder.com
SUMMARY:Zoom-Talks
DESCRIPTION:from 8pm – 9pm (UTC+ 2/CEST) \n  \nCost: 10 € / Talk \nPlease note that the payment for the Zoom-Talks is mandatory! \nhttp://PayPal.Me/thetimelesswonder \nRevolut: +4917641358997 \nother payment methods: https://thetimelesswonder.com/contact/?lang=en \n  \n  \nThe Zoom Talks will be recorded and later published on Andreas’ Patreon channel. The audio track and Andreas’ image will be recorded. \n  \n  \nLink to Zoom –> https://us02web.zoom.us/j/82589443240 \n  \n  \n  \n  \n 
URL:https://thetimelesswonder.com/event/zoom-talk-wed-fri/?lang=en
CATEGORIES:Daily Zoom Talk,Dates,Events,Online,Orte,Orte,Zoom-Talk
END:VEVENT
BEGIN:VEVENT
DTSTART;VALUE=DATE:20260425
DTEND;VALUE=DATE:20260427
DTSTAMP:20260424T001633
CREATED:20190326T204351Z
LAST-MODIFIED:20260108T190218Z
UID:7303-1777075200-1777247999@thetimelesswonder.com
SUMMARY:Weekend in Munich with Andreas Müller und Nicole Raus (German)
DESCRIPTION:All information to this event –> https://www.jenseitsdeslichts.de/
URL:https://thetimelesswonder.com/event/onenesstalks-in-muenchen/?lang=en
LOCATION:Seniorenheim Haus Alt-Lehel\, Christophstr. 12\, München\, 80538\, Deutschland
CATEGORIES:Dates,Events,Germany,München,Munich,Orte,Orte
END:VEVENT
BEGIN:VEVENT
DTSTART;TZID=Europe/Berlin:20260429T200000
DTEND;TZID=Europe/Berlin:20260429T210000
DTSTAMP:20260424T001633
CREATED:20200317T171615Z
LAST-MODIFIED:20260416T134826Z
UID:2059-1777492800-1777496400@thetimelesswonder.com
SUMMARY:Zoom-Talks
DESCRIPTION:8pm – 9pm (UTC+2/CEST) \n  \nCost: 10 € / Talk \n  \nPlease note that the payment for the Zoom-Talks is mandatory. \n  \nhttp://PayPal.Me/thetimelesswonder \nRevolut: +4917641358997 \nother payment methods: https://thetimelesswonder.com/contact/?lang=en \n  \n  \nThe Zoom Talks will be recorded and later published on Andreas’ Patreon channel. The audio track and Andreas’ image will be recorded. \n  \n  \nLink to Zoom –> https://us02web.zoom.us/j/82589443240 \n  \n 
URL:https://thetimelesswonder.com/event/daily-zoom-talk/?lang=en
CATEGORIES:Daily Zoom Talk,Dates,Events,Online,Orte,Orte
END:VEVENT
END:VCALENDAR