BEGIN:VCALENDAR
VERSION:2.0
PRODID:-//the timeless wonder - ECPv6.15.13//NONSGML v1.0//EN
CALSCALE:GREGORIAN
METHOD:PUBLISH
X-WR-CALNAME:the timeless wonder
X-ORIGINAL-URL:https://thetimelesswonder.com/?lang=en
X-WR-CALDESC:Events for the timeless wonder
REFRESH-INTERVAL;VALUE=DURATION:PT1H
X-Robots-Tag:noindex
X-PUBLISHED-TTL:PT1H
BEGIN:VTIMEZONE
TZID:Europe/Berlin
BEGIN:DAYLIGHT
TZOFFSETFROM:+0100
TZOFFSETTO:+0200
TZNAME:CEST
DTSTART:20250330T010000
END:DAYLIGHT
BEGIN:STANDARD
TZOFFSETFROM:+0200
TZOFFSETTO:+0100
TZNAME:CET
DTSTART:20251026T010000
END:STANDARD
BEGIN:DAYLIGHT
TZOFFSETFROM:+0100
TZOFFSETTO:+0200
TZNAME:CEST
DTSTART:20260329T010000
END:DAYLIGHT
BEGIN:STANDARD
TZOFFSETFROM:+0200
TZOFFSETTO:+0100
TZNAME:CET
DTSTART:20261025T010000
END:STANDARD
BEGIN:DAYLIGHT
TZOFFSETFROM:+0100
TZOFFSETTO:+0200
TZNAME:CEST
DTSTART:20270328T010000
END:DAYLIGHT
BEGIN:STANDARD
TZOFFSETFROM:+0200
TZOFFSETTO:+0100
TZNAME:CET
DTSTART:20271031T010000
END:STANDARD
END:VTIMEZONE
BEGIN:VEVENT
DTSTART;VALUE=DATE:20261028
DTEND;VALUE=DATE:20261102
DTSTAMP:20260424T085755
CREATED:20250201T104517Z
LAST-MODIFIED:20260410T071521Z
UID:9150-1793145600-1793577599@thetimelesswonder.com
SUMMARY:Autumn-Intensive in Murrhardt (German)
DESCRIPTION:  \n  \nAutumn Intensive in Murrhardt\n  \nThis intensive will take place from \n  \nWednesday\, Oct. 28th – Sunday\, Nov. 1st 2026\n  \nat the Kieselhof seminar house. \n  \nLanguage: German!\n  \nThe Kieselhof is beautifully situated in a wonderful high location in the Swabian-Franconian Forest Nature Park\, about an hour’s drive north-east of Stuttgart. The property is a former farm that has now been converted into a seminar house. The surrounding area invites you to take long walks through woods and meadows. \nThe catering is vegetarian. \nDuring the intensive\, there are two to three OnenessTalks with Andreas every day. The time in between is at your free disposal. There will also be time for further discussions with Andreas. \n  \nOvernight stay in a single room incl. full board: 360 € per person \nOvernight stay in a double room incl. full board: 340 € per person \nOvernight stay in a 9-bed room incl. full board: 280 € per person \n  \n  \nRecommended contribution for the OnenessTalks: € 240 \n  \nThe number of participants is limited\, therefore registration is necessary. After transferring a deposit of 50 € the booking is fixed and will be confirmed. In case of cancellation after 28.9.2026 the deposit will be retained. \nPossible payment methods –> https://thetimelesswonder.com/payment/?lang=en \n  \nInfo and registration: OnenessTalks@hotmail.com \n 
URL:https://thetimelesswonder.com/event/new-autumn-intensive-in-murrhardt-german/?lang=en
LOCATION:Seminarhaus Kieselhof\, Kieselhof 6\, Murrhardt\, 71540\, Deutschland
CATEGORIES:Autumn-Intensive in Murrhardt,Dates,Events,Germany,Intense,Murrhardt,Murrhardt,Orte,Orte
END:VEVENT
END:VCALENDAR