BEGIN:VCALENDAR
VERSION:2.0
PRODID:-//the timeless wonder - ECPv6.15.13//NONSGML v1.0//EN
CALSCALE:GREGORIAN
METHOD:PUBLISH
X-ORIGINAL-URL:https://thetimelesswonder.com/?lang=en
X-WR-CALDESC:Events for the timeless wonder
REFRESH-INTERVAL;VALUE=DURATION:PT1H
X-Robots-Tag:noindex
X-PUBLISHED-TTL:PT1H
BEGIN:VTIMEZONE
TZID:Europe/Berlin
BEGIN:DAYLIGHT
TZOFFSETFROM:+0100
TZOFFSETTO:+0200
TZNAME:CEST
DTSTART:20250330T010000
END:DAYLIGHT
BEGIN:STANDARD
TZOFFSETFROM:+0200
TZOFFSETTO:+0100
TZNAME:CET
DTSTART:20251026T010000
END:STANDARD
BEGIN:DAYLIGHT
TZOFFSETFROM:+0100
TZOFFSETTO:+0200
TZNAME:CEST
DTSTART:20260329T010000
END:DAYLIGHT
BEGIN:STANDARD
TZOFFSETFROM:+0200
TZOFFSETTO:+0100
TZNAME:CET
DTSTART:20261025T010000
END:STANDARD
BEGIN:DAYLIGHT
TZOFFSETFROM:+0100
TZOFFSETTO:+0200
TZNAME:CEST
DTSTART:20270328T010000
END:DAYLIGHT
BEGIN:STANDARD
TZOFFSETFROM:+0200
TZOFFSETTO:+0100
TZNAME:CET
DTSTART:20271031T010000
END:STANDARD
END:VTIMEZONE
BEGIN:VEVENT
DTSTART;VALUE=DATE:20260707
DTEND;VALUE=DATE:20260713
DTSTAMP:20260424T041244
CREATED:20260124T140001Z
LAST-MODIFIED:20260124T140001Z
UID:10036-1783382400-1783900799@thetimelesswonder.com
SUMMARY:Retreat in Austria / Andreas Müller & Nicole Raus (German)
DESCRIPTION:This retreat with Andreas Müller & Nicole Raus will take place in Austria. \n  \nLanguage: German! \n  \nInformation –> https://www.jenseitsdeslichts.de/
URL:https://thetimelesswonder.com/event/retreat-in-austria-andreas-mueller-nicole-raus-german/?lang=en
LOCATION:Seminarhof Schleglberg\, Holzhäuseln 12\, Rottenbach\, 4681
CATEGORIES:Austria,Dates,Events,Intense,Orte,Orte,Retreat in Austria / Andreas Müller & Nicole Raus (German),Rottenbach
END:VEVENT
END:VCALENDAR