BEGIN:VCALENDAR
VERSION:2.0
PRODID:-//the timeless wonder - ECPv6.15.13//NONSGML v1.0//EN
CALSCALE:GREGORIAN
METHOD:PUBLISH
X-ORIGINAL-URL:https://thetimelesswonder.com/?lang=en
X-WR-CALDESC:Events for the timeless wonder
REFRESH-INTERVAL;VALUE=DURATION:PT1H
X-Robots-Tag:noindex
X-PUBLISHED-TTL:PT1H
BEGIN:VTIMEZONE
TZID:Europe/Berlin
BEGIN:DAYLIGHT
TZOFFSETFROM:+0100
TZOFFSETTO:+0200
TZNAME:CEST
DTSTART:20250330T010000
END:DAYLIGHT
BEGIN:STANDARD
TZOFFSETFROM:+0200
TZOFFSETTO:+0100
TZNAME:CET
DTSTART:20251026T010000
END:STANDARD
BEGIN:DAYLIGHT
TZOFFSETFROM:+0100
TZOFFSETTO:+0200
TZNAME:CEST
DTSTART:20260329T010000
END:DAYLIGHT
BEGIN:STANDARD
TZOFFSETFROM:+0200
TZOFFSETTO:+0100
TZNAME:CET
DTSTART:20261025T010000
END:STANDARD
BEGIN:DAYLIGHT
TZOFFSETFROM:+0100
TZOFFSETTO:+0200
TZNAME:CEST
DTSTART:20270328T010000
END:DAYLIGHT
BEGIN:STANDARD
TZOFFSETFROM:+0200
TZOFFSETTO:+0100
TZNAME:CET
DTSTART:20271031T010000
END:STANDARD
END:VTIMEZONE
BEGIN:VEVENT
DTSTART;VALUE=DATE:20260307
DTEND;VALUE=DATE:20260309
DTSTAMP:20260424T005413
CREATED:20211110T113021Z
LAST-MODIFIED:20260116T094227Z
UID:7277-1772841600-1773014399@thetimelesswonder.com
SUMMARY:Weekend in Zurich with Andreas Müller & Nicole Raus (German)
DESCRIPTION:All information here –> https://www.jenseitsdeslichts.de/ \n  \n  \n 
URL:https://thetimelesswonder.com/event/zuerich/?lang=en
LOCATION:The Sacred Vegelateria\, Müllerstrasse 64\, Zürich\, 8004\, Schweiz
CATEGORIES:Dates,Events,Orte,Orte,Schweiz,Switzerland,Zurich,Zürich
END:VEVENT
BEGIN:VEVENT
DTSTART;VALUE=DATE:20260321
DTEND;VALUE=DATE:20260323
DTSTAMP:20260424T005413
CREATED:20190327T102635Z
LAST-MODIFIED:20260205T061516Z
UID:7657-1774051200-1774223999@thetimelesswonder.com
SUMMARY:Andreas Müller in Gundelfingen (German)
DESCRIPTION:Saturday\, March 21st: 2pm – 6pm \n  \nSunday\, March 22nd: 2pm – 6pm \n  \nincl. 30-minute break – cost: €45 / afternoon \n  \nLanguage: German! \n  \nThe number of participants is limited\, so be sure to register – by e-mail at OnenessTalks@hotmail.com \nPlease park in Rosenstraße and DO NOT park in front of or opposite the venue! \n  \nRing the bell at Ullrich! \n 
URL:https://thetimelesswonder.com/event/onenesstalks-in-gundelfingen/?lang=en
LOCATION:Gundelfingen\, Holunderweg 11\, Gundelfingen\, 79194
CATEGORIES:Germany,Gundelfingen,Orte
END:VEVENT
BEGIN:VEVENT
DTSTART;VALUE=DATE:20260326
DTEND;VALUE=DATE:20260401
DTSTAMP:20260424T005413
CREATED:20240731T143838Z
LAST-MODIFIED:20260124T172604Z
UID:7749-1774483200-1775001599@thetimelesswonder.com
SUMMARY:Easter-Intensive in Murrhardt (English)
DESCRIPTION:  \n  \n  \n  \n  \n  \n  \n  \nThe Easter-Intensive in Murrhardt takes place from \nThursday\, March 26th – Tuesday\, March 31st 2026 \nat the Kieselhof seminar house. \n  \nLanguage: English! \n  \nThe Kieselhof is beautifully situated in a wonderful high location in the Swabian-Franconian Forest Nature Park\, about an hour’s drive north-east of Stuttgart. The property is a former farm that has now been converted into a seminar house. The surrounding area invites you to take long walks through woods and meadows. The nearest airport is Stuttgart. From there Murrhardt can be reached by public transport. \nThe catering is vegetarian. \nDuring the intensive\, there are two to three OnenessTalks with Andreas every day. The time in between is at your free disposal. There will also be time for further discussions with Andreas. \n  \nAccomodation & meals – single room incl. full board: 450 € \nAccomodation & meals – double room incl. full board: € 425 \nAccomodation & meals – 9-bed room incl. full board: 350 € \n  \nFee for the Talks: € 300 \n  \nThe number of participants is limited\, therefore registration is necessary. After transferring a deposit of 50 € the booking is fixed and will be confirmed. In case of cancellation after Feb. 26th. 2026 the deposit will be retained. In the event of cancellation at short notice\, additional cancellation costs may be incurred by the seminar house. \nInfo and registration: \nOnenessTalks@hotmail.com \n  \n 
URL:https://thetimelesswonder.com/event/oster-intensiv-in-murrhardt-englisch/?lang=en
LOCATION:Seminarhaus Kieselhof\, Kieselhof 6\, Murrhardt\, 71540\, Deutschland
CATEGORIES:Dates,Easter-Intensive in Murrhardt (English),Events,Intense,Intensive,Murrhardt,Murrhardt,Orte,Orte,Oster-Intensiv in Murrhardt (englisch)
END:VEVENT
END:VCALENDAR