BEGIN:VCALENDAR
VERSION:2.0
PRODID:-//the timeless wonder - ECPv6.15.13//NONSGML v1.0//EN
CALSCALE:GREGORIAN
METHOD:PUBLISH
X-ORIGINAL-URL:https://thetimelesswonder.com/?lang=en
X-WR-CALDESC:Events for the timeless wonder
REFRESH-INTERVAL;VALUE=DURATION:PT1H
X-Robots-Tag:noindex
X-PUBLISHED-TTL:PT1H
BEGIN:VTIMEZONE
TZID:Europe/London
BEGIN:DAYLIGHT
TZOFFSETFROM:+0000
TZOFFSETTO:+0100
TZNAME:BST
DTSTART:20240331T010000
END:DAYLIGHT
BEGIN:STANDARD
TZOFFSETFROM:+0100
TZOFFSETTO:+0000
TZNAME:GMT
DTSTART:20241027T010000
END:STANDARD
BEGIN:DAYLIGHT
TZOFFSETFROM:+0000
TZOFFSETTO:+0100
TZNAME:BST
DTSTART:20250330T010000
END:DAYLIGHT
BEGIN:STANDARD
TZOFFSETFROM:+0100
TZOFFSETTO:+0000
TZNAME:GMT
DTSTART:20251026T010000
END:STANDARD
BEGIN:DAYLIGHT
TZOFFSETFROM:+0000
TZOFFSETTO:+0100
TZNAME:BST
DTSTART:20260329T010000
END:DAYLIGHT
BEGIN:STANDARD
TZOFFSETFROM:+0100
TZOFFSETTO:+0000
TZNAME:GMT
DTSTART:20261025T010000
END:STANDARD
END:VTIMEZONE
BEGIN:VTIMEZONE
TZID:Europe/Berlin
BEGIN:DAYLIGHT
TZOFFSETFROM:+0100
TZOFFSETTO:+0200
TZNAME:CEST
DTSTART:20240331T010000
END:DAYLIGHT
BEGIN:STANDARD
TZOFFSETFROM:+0200
TZOFFSETTO:+0100
TZNAME:CET
DTSTART:20241027T010000
END:STANDARD
BEGIN:DAYLIGHT
TZOFFSETFROM:+0100
TZOFFSETTO:+0200
TZNAME:CEST
DTSTART:20250330T010000
END:DAYLIGHT
BEGIN:STANDARD
TZOFFSETFROM:+0200
TZOFFSETTO:+0100
TZNAME:CET
DTSTART:20251026T010000
END:STANDARD
BEGIN:DAYLIGHT
TZOFFSETFROM:+0100
TZOFFSETTO:+0200
TZNAME:CEST
DTSTART:20260329T010000
END:DAYLIGHT
BEGIN:STANDARD
TZOFFSETFROM:+0200
TZOFFSETTO:+0100
TZNAME:CET
DTSTART:20261025T010000
END:STANDARD
END:VTIMEZONE
BEGIN:VEVENT
DTSTART;VALUE=DATE:20251004
DTEND;VALUE=DATE:20251006
DTSTAMP:20260424T090212
CREATED:20190401T184023Z
LAST-MODIFIED:20250915T110905Z
UID:1225-1759536000-1759708799@thetimelesswonder.com
SUMMARY:Andreas Müller in Brighton
DESCRIPTION:The weekend is Brighton will take place on \n  \nSaturday\, Oct. 4th.: 3pm – 6:30pm \nSunday\, Oct. 5th.: 2pm – 5:30pm \n  \nFee: 40 GBP/afternoon \n  \nThe talks take place at a private home in Kemptown/Brighton. Please register via OnenessTalks@hotmail.com. You will get the address of the venue with the confirmation of your place
URL:https://thetimelesswonder.com/event/brighton/?lang=en
LOCATION:Brighton\, Brighton\, Großbritannien (Vereinigtes Königreich)
CATEGORIES:Brighton,Dates,Events,Great Britain,Orte,Orte
END:VEVENT
BEGIN:VEVENT
DTSTART;VALUE=DATE:20251018
DTEND;VALUE=DATE:20251020
DTSTAMP:20260424T090212
CREATED:20210211T101907Z
LAST-MODIFIED:20250430T104135Z
UID:7521-1760745600-1760918399@thetimelesswonder.com
SUMMARY:Andreas Müller in Munich (German)
DESCRIPTION:Saturday\, Oct. 18.: 2pm – 6pm \nSunday\, Oct. 19.: 1pm – 5pm \n  \nLanguage: German \n  \nCost: 50 € / day \n  \nVenue: \n@peace e.K.  \nHolzstr. 4  \n80469 München / close to Sendlinger Tor \n 
URL:https://thetimelesswonder.com/event/muenchen-2/?lang=en
LOCATION:@peace / München\, Holzstraße 4\, München\, 80469
CATEGORIES:Dates,Events,Germany,München,Munich,Orte,Orte
END:VEVENT
END:VCALENDAR