BEGIN:VCALENDAR
VERSION:2.0
PRODID:-//the timeless wonder - ECPv6.15.13//NONSGML v1.0//EN
CALSCALE:GREGORIAN
METHOD:PUBLISH
X-WR-CALNAME:the timeless wonder
X-ORIGINAL-URL:https://thetimelesswonder.com/?lang=en
X-WR-CALDESC:Events for the timeless wonder
REFRESH-INTERVAL;VALUE=DURATION:PT1H
X-Robots-Tag:noindex
X-PUBLISHED-TTL:PT1H
BEGIN:VTIMEZONE
TZID:Europe/London
BEGIN:DAYLIGHT
TZOFFSETFROM:+0000
TZOFFSETTO:+0100
TZNAME:BST
DTSTART:20250330T010000
END:DAYLIGHT
BEGIN:STANDARD
TZOFFSETFROM:+0100
TZOFFSETTO:+0000
TZNAME:GMT
DTSTART:20251026T010000
END:STANDARD
BEGIN:DAYLIGHT
TZOFFSETFROM:+0000
TZOFFSETTO:+0100
TZNAME:BST
DTSTART:20260329T010000
END:DAYLIGHT
BEGIN:STANDARD
TZOFFSETFROM:+0100
TZOFFSETTO:+0000
TZNAME:GMT
DTSTART:20261025T010000
END:STANDARD
BEGIN:DAYLIGHT
TZOFFSETFROM:+0000
TZOFFSETTO:+0100
TZNAME:BST
DTSTART:20270328T010000
END:DAYLIGHT
BEGIN:STANDARD
TZOFFSETFROM:+0100
TZOFFSETTO:+0000
TZNAME:GMT
DTSTART:20271031T010000
END:STANDARD
END:VTIMEZONE
BEGIN:VTIMEZONE
TZID:Europe/Berlin
BEGIN:DAYLIGHT
TZOFFSETFROM:+0100
TZOFFSETTO:+0200
TZNAME:CEST
DTSTART:20250330T010000
END:DAYLIGHT
BEGIN:STANDARD
TZOFFSETFROM:+0200
TZOFFSETTO:+0100
TZNAME:CET
DTSTART:20251026T010000
END:STANDARD
BEGIN:DAYLIGHT
TZOFFSETFROM:+0100
TZOFFSETTO:+0200
TZNAME:CEST
DTSTART:20260329T010000
END:DAYLIGHT
BEGIN:STANDARD
TZOFFSETFROM:+0200
TZOFFSETTO:+0100
TZNAME:CET
DTSTART:20261025T010000
END:STANDARD
BEGIN:DAYLIGHT
TZOFFSETFROM:+0100
TZOFFSETTO:+0200
TZNAME:CEST
DTSTART:20270328T010000
END:DAYLIGHT
BEGIN:STANDARD
TZOFFSETFROM:+0200
TZOFFSETTO:+0100
TZNAME:CET
DTSTART:20271031T010000
END:STANDARD
BEGIN:DAYLIGHT
TZOFFSETFROM:+0100
TZOFFSETTO:+0200
TZNAME:CEST
DTSTART:20280326T010000
END:DAYLIGHT
BEGIN:STANDARD
TZOFFSETFROM:+0200
TZOFFSETTO:+0100
TZNAME:CET
DTSTART:20281029T010000
END:STANDARD
END:VTIMEZONE
BEGIN:VTIMEZONE
TZID:Europe/Helsinki
BEGIN:DAYLIGHT
TZOFFSETFROM:+0200
TZOFFSETTO:+0300
TZNAME:EEST
DTSTART:20250330T010000
END:DAYLIGHT
BEGIN:STANDARD
TZOFFSETFROM:+0300
TZOFFSETTO:+0200
TZNAME:EET
DTSTART:20251026T010000
END:STANDARD
BEGIN:DAYLIGHT
TZOFFSETFROM:+0200
TZOFFSETTO:+0300
TZNAME:EEST
DTSTART:20260329T010000
END:DAYLIGHT
BEGIN:STANDARD
TZOFFSETFROM:+0300
TZOFFSETTO:+0200
TZNAME:EET
DTSTART:20261025T010000
END:STANDARD
BEGIN:DAYLIGHT
TZOFFSETFROM:+0200
TZOFFSETTO:+0300
TZNAME:EEST
DTSTART:20270328T010000
END:DAYLIGHT
BEGIN:STANDARD
TZOFFSETFROM:+0300
TZOFFSETTO:+0200
TZNAME:EET
DTSTART:20271031T010000
END:STANDARD
END:VTIMEZONE
BEGIN:VEVENT
DTSTART;VALUE=DATE:20260613
DTEND;VALUE=DATE:20260615
DTSTAMP:20260424T041513
CREATED:20190401T184502Z
LAST-MODIFIED:20251217T195556Z
UID:1229-1781308800-1781481599@thetimelesswonder.com
SUMMARY:Andreas Müller in London
DESCRIPTION:Saturday\, June 13th: 2pm – 6pm \nSunday\, June 14th: 2pm – 6pm \n  \nCost: \nOne day: 65 GBP \nBoth days: 120 GBP \n  \nThe spaces are limited. If you want to participate please register via e-mail at OnenessTalks@hotmail.com. \n  \n 
URL:https://thetimelesswonder.com/event/london/?lang=en
LOCATION:Philadelphia Association\, 4 Marty's Yard\, London\, NW31QW\, Großbritannien (Vereinigtes Königreich)
CATEGORIES:Events,Great Britain,London,Orte,Orte
END:VEVENT
BEGIN:VEVENT
DTSTART;VALUE=DATE:20260624
DTEND;VALUE=DATE:20260629
DTSTAMP:20260424T041513
CREATED:20231113T162546Z
LAST-MODIFIED:20260408T084814Z
UID:6805-1782259200-1782691199@thetimelesswonder.com
SUMMARY:Residential in Barcelona
DESCRIPTION:  \n  \n  \n  \n  \n  \n  \nThe residential in Barcelona will take place from \nJune 24th – June 28th 2026 \nat the wonderful Casa Sant Felip Neri in Barcelona. \n  \nLanguage: English with Spanish translation! \n  \nDuring the residential\, there will be three talks with Andreas per day (approx. 4 hours/day). \n  \nFee for the talks: 300 € \n  \nAccomodation: \nSingle room (with private bathroom) incl. full board: 316 € \nSingle room (with shared bathroom) incl. full board: 276 € \nDouble room incl. full board: info follows (for two people): 580 € \n  \nWe will have all the meals together at the Casa Sant Felip Neri. The time in between is for free use. \nIt is also possible to only participate in the talks or to participate in the talks and have the meals with the group. In this case please let us know at least two weeks in advance so that the kitchen can plan the meals accordingly. \nThe number of participants is limited. After paying a deposit of 70 €\, the booking is confirmed. In case of cancellation within four weeks before the event\, the deposit will not be reimbursed. \nPlease note: There are separate cancellation fees for the rooms & meals! \nInformation & booking at onenesstalks@hotmail.com. \n  \n  \nEl residencial de Barcelona tendrá lugar del \n24 de junio – 28 de junio de 2026 \nen la maravillosa Casa Sant Felip Neri de Barcelona. \n  \nIdioma: Inglés con traducción al español. \n  \nDurante la residencia\, habrá tres charlas con Andreas por día (aprox. 4 horas/día).  \n  \nPrecio de las charlas: 300 € \n  \nAlojamiento: \nHabitación individual (con baño privado) incl. pensión completa: 316 € \nHabitación individual (con baño compartido) incl. pensión completa: 276 € \nHabitación doble incl. pensión completa: 580 € \n  \nTendremos todas las comidas juntos en Casa Sant Felip Neri. El tiempo intermedio está a su libre disposición. \nTambién es posible participar sólo en las charlas o participar en las charlas y comer con el grupo. En este caso\, le rogamos nos lo comunique con al menos dos semanas de antelación para que la cocina pueda planificar las comidas en consecuencia. \nEl número de participantes es limitado. Tras abonar un depósito de 70 euros\, la reserva queda confirmada. En caso de cancelación dentro de las cuatro semanas anteriores al evento\, no se reembolsará el depósito. \nTenga en cuenta que los gastos de cancelación de habitaciones y comidas son extra. \n  \nInformación y reservas en onenesstalks@hotmail.com. \n 
URL:https://thetimelesswonder.com/event/onenesstalks-intensive-in-barcelona/?lang=en
LOCATION:Casa Sant Felip Neri\, C/Nena Casas 37-47\, Barcelona\, 08017\, Spain
CATEGORIES:Barcelona,Dates,Events,Intense,Intensive,OnenessTalks-Intensive in Barcelona,OnenessTalks-Residential in Barcelona,Orte,Orte,Spain
END:VEVENT
BEGIN:VEVENT
DTSTART;VALUE=DATE:20260707
DTEND;VALUE=DATE:20260713
DTSTAMP:20260424T041513
CREATED:20260124T140001Z
LAST-MODIFIED:20260124T140001Z
UID:10036-1783382400-1783900799@thetimelesswonder.com
SUMMARY:Retreat in Austria / Andreas Müller & Nicole Raus (German)
DESCRIPTION:This retreat with Andreas Müller & Nicole Raus will take place in Austria. \n  \nLanguage: German! \n  \nInformation –> https://www.jenseitsdeslichts.de/
URL:https://thetimelesswonder.com/event/retreat-in-austria-andreas-mueller-nicole-raus-german/?lang=en
LOCATION:Seminarhof Schleglberg\, Holzhäuseln 12\, Rottenbach\, 4681
CATEGORIES:Austria,Dates,Events,Intense,Orte,Orte,Retreat in Austria / Andreas Müller & Nicole Raus (German),Rottenbach
END:VEVENT
BEGIN:VEVENT
DTSTART;VALUE=DATE:20260814
DTEND;VALUE=DATE:20260817
DTSTAMP:20260424T041513
CREATED:20190401T193552Z
LAST-MODIFIED:20260312T190036Z
UID:1255-1786665600-1786924799@thetimelesswonder.com
SUMMARY:Andreas Müller in Helsinki
DESCRIPTION:  \nFri.\, August 14th: 6pm – 7:30pm \nSat.\, August 15th: 2pm – 6pm \nSun.\, August 16th: 1pm – 5pm \n  \nFriday: 25 € \nSat. & Sun: 65 € each for one day \nFull weekend: 150 € \n  \nThere is no registration required. Cash only\, no pre-payment. Seeting will be available on “first-in\, first served” basis. The event is in English. \n  \n  \n 
URL:https://thetimelesswonder.com/event/onenesstalks-in-helsinki-finnland/?lang=en
LOCATION:Tanssikoulu EdBH\, Merimiehenkatu 29\, Helsinki\, Finnland
CATEGORIES:Events,Finland,Finland,Finnland,Helsinki
END:VEVENT
BEGIN:VEVENT
DTSTART;VALUE=DATE:20260829
DTEND;VALUE=DATE:20260911
DTSTAMP:20260424T041513
CREATED:20190222T162203Z
LAST-MODIFIED:20251118T143519Z
UID:7911-1787961600-1789084799@thetimelesswonder.com
SUMMARY:Holiday-Intensive in Lentas/Crete (English)
DESCRIPTION:  \nThe Holiday-Intensive with Andreas in Lentas on Crete takes place from \n  \nSaturday\, Aug. 29th – Thursday\, Sep. 10th 2026\n  \nLanguage: English! \n  \n\n\nLentas is a wonderful village at the south shore of Crete. The accomodation will be in studios/rooms and appartements which can be rented as single\, double or shared rooms for three to four people. Lentas is situated at the shore\, so swimming is possible. \n  \nDuring the intensive there will be two OnenessTalks with Andreas per day. The time in between is for free use. There will also be further time for conversations with Andreas. Probably there will be trips to the surroundings on one or two days. \n  \nYou have to book the accomodation for yourself. Lentas is not big and the place where the talks are held can be reached from everywhere in Lentas within a few minutes footpath. The studios are pretty much the same in the size\, but they differ from things like balcony and/or seaview. If you have special wishes for your accomodation – balcony\, seaview – please say it. According to that the prices may vary. Another possibility is to just arrive in Lentas and look for your accomodation then. Usually you will find one. If you book your accomodation\, please make sure that it is in the village. You can also check with Andreas and Vivien. \n  \nFood is not included. Lentas offers many good Tavernas with good and affordable meals. Everybody is free\, but there is the possibility to eat together. \n  \nSuggested fee for the Talks: 600 € \n  \nThe number of participants is limited. After paying a deposit of 70 €\, the booking is confirmed. In case of cancellation within four weeks before the event\, the deposit will not be reimbursed. \n  \nThe flight is not included. In order to come to Lentas a taxi or a rented car is needed. We can help organize the transfer and for example help to get together several people to share a car. \n  \nInformation + booking: \n  \nOnenessTalks(at)hotmail(dot)com\n\n\n  \n  \n  \n 
URL:https://thetimelesswonder.com/event/intensiv-urlaub-in-lentas-kreta-deutsch/?lang=en
LOCATION:Panorama Studios\, Gortina\, Lentas\, 70400
CATEGORIES:Crete,Dates,Events,Greece,Greece,Griechenland,Holiday-Intensive in Lentas/Crete,Intense,Intensiv-Urlaub in Lentas/Kreta,Intensive,Kreta,Orte,Orte
END:VEVENT
BEGIN:VEVENT
DTSTART;VALUE=DATE:20260926
DTEND;VALUE=DATE:20260928
DTSTAMP:20260424T041513
CREATED:20260226T100612Z
LAST-MODIFIED:20260227T192725Z
UID:10111-1790380800-1790553599@thetimelesswonder.com
SUMMARY:Andreas in Wervershoof / NL
DESCRIPTION:Saturday\, Sep. 26th: 1:30pm – 5:30pm \nSunday\, Sep. 27th: 1:30pm – 5:30pm \n  \nLanguage: English! \n  \n60 € / afternoon \n110 € / whole weekend \n  \nPlease register at “seraphim36@gmail.com” \n  \n 
URL:https://thetimelesswonder.com/event/andreas-in-wervershoof-nl/?lang=en
LOCATION:Instituut EszenzZ\, Dorpsstraat 84-86\, AH Wervershoof\, 1693\, Netherlands
CATEGORIES:Dates,Events,Netherlands,Netherlands,Orte,Orte,Wervershoof
END:VEVENT
BEGIN:VEVENT
DTSTART;VALUE=DATE:20261028
DTEND;VALUE=DATE:20261102
DTSTAMP:20260424T041513
CREATED:20250201T104517Z
LAST-MODIFIED:20260410T071521Z
UID:9150-1793145600-1793577599@thetimelesswonder.com
SUMMARY:Autumn-Intensive in Murrhardt (German)
DESCRIPTION:  \n  \nAutumn Intensive in Murrhardt\n  \nThis intensive will take place from \n  \nWednesday\, Oct. 28th – Sunday\, Nov. 1st 2026\n  \nat the Kieselhof seminar house. \n  \nLanguage: German!\n  \nThe Kieselhof is beautifully situated in a wonderful high location in the Swabian-Franconian Forest Nature Park\, about an hour’s drive north-east of Stuttgart. The property is a former farm that has now been converted into a seminar house. The surrounding area invites you to take long walks through woods and meadows. \nThe catering is vegetarian. \nDuring the intensive\, there are two to three OnenessTalks with Andreas every day. The time in between is at your free disposal. There will also be time for further discussions with Andreas. \n  \nOvernight stay in a single room incl. full board: 360 € per person \nOvernight stay in a double room incl. full board: 340 € per person \nOvernight stay in a 9-bed room incl. full board: 280 € per person \n  \n  \nRecommended contribution for the OnenessTalks: € 240 \n  \nThe number of participants is limited\, therefore registration is necessary. After transferring a deposit of 50 € the booking is fixed and will be confirmed. In case of cancellation after 28.9.2026 the deposit will be retained. \nPossible payment methods –> https://thetimelesswonder.com/payment/?lang=en \n  \nInfo and registration: OnenessTalks@hotmail.com \n 
URL:https://thetimelesswonder.com/event/new-autumn-intensive-in-murrhardt-german/?lang=en
LOCATION:Seminarhaus Kieselhof\, Kieselhof 6\, Murrhardt\, 71540\, Deutschland
CATEGORIES:Autumn-Intensive in Murrhardt,Dates,Events,Germany,Intense,Murrhardt,Murrhardt,Orte,Orte
END:VEVENT
BEGIN:VEVENT
DTSTART;VALUE=DATE:20261211
DTEND;VALUE=DATE:20261216
DTSTAMP:20260424T041513
CREATED:20250310T121719Z
LAST-MODIFIED:20260328T045328Z
UID:9301-1796947200-1797379199@thetimelesswonder.com
SUMMARY:Residential in Glastonbury
DESCRIPTION:  \n  \n  \n  \n  \n  \n  \n  \nThe residential in Compton Dundon will take place from \n  \nFriday\, Dec. 11th – Tuesday\, Dec. 15th 2026 \n  \nin the lovely Earthspirit Centre near Glastonbury. \n  \nLanguage: English! \n  \nDuring the residential\, there will be three talks with Andreas per day (approx. 4 hours/day). The time in between is at your free disposal. There will also be time for further discussions with Andreas. \n  \nAccomodation incl. full board: \nSingle room: Information follows \nDouble room: Information follows \nTriple room: Information follows \nDormitory: Information follows \n  \nTalks with Andreas: 300 GBP \n  \nThe number of participants is limited. After paying a deposit of 100 GPB\, the booking is confirmed. In case of cancellation within four weeks before the event\, the deposit will not be reimbursed. \n  \nInformation & booking at onenesstalks@hotmail.com. \n  \n  \n 
URL:https://thetimelesswonder.com/event/residential-in-compton-dundon-near-glastonbury/?lang=en
LOCATION:Earthspirit Centre\, Peak Lane\, Compton Dundon\, TA11 6PE\, United Kingdom
CATEGORIES:Comtpon Dundon,Dates,Events,Glastonbury,Great Britain,Intense,Intensive,Orte,Orte,Residential in Compton Dundon/UK,Residential in Glastonbury
END:VEVENT
BEGIN:VEVENT
DTSTART;VALUE=DATE:20270124
DTEND;VALUE=DATE:20270130
DTSTAMP:20260424T041513
CREATED:20220613T025152Z
LAST-MODIFIED:20260412T200646Z
UID:5435-1800748800-1801267199@thetimelesswonder.com
SUMMARY:Andreas Müller in Arabba/IT
DESCRIPTION:  \n  \n  \n  \n  \n  \n  \n  \nAndreas will hold Talks in Arabba from Sunday\, January 24th to Friday\, January 29th\, 2027\, from 5pm to 6:45pm. \n  \nLanguage: English! \n  \nCost for the Talks: 200 € \n  \nArabba is a wonderful little village in the Italian Dolomites. The surrounding area is perfect for skiing\, snow hiking and other winter activities. The village is located at 1602 meters\, so snow should be guaranteed. \nAccommodation and meals are not included in the price and must be booked or paid separately. The talks will take place at the Hotel Genziana. Rooms can be booked directly there. Apart from that\, rooms can also be booked in other accommodations. The plan is to have dinner together after the talks in one of the surrounding restaurants. \nThere are several ways to travel to Arabba: \n\nby plane: Fly to Venice and take the bus to Arabba. There seem to be two buses on Saturday and Sunday each. Alternatively you may take a rental car from the airport.\nby plane: Fly to Innsbruck and take a rental car.\nby train to Innsbruck and take a rental car\nby car\n\nGeneral information & booking of the talks: OnenessTalks@hotmail.com. \n 
URL:https://thetimelesswonder.com/event/arabba/?lang=en
LOCATION:Hotel Genziana\, Via Colesel 16\, Arabba\, 32020
CATEGORIES:Arabba,Dates,Events,Intense,Intensive,Intensive in Arabba,Italy,Orte,Orte
END:VEVENT
END:VCALENDAR