BEGIN:VCALENDAR
VERSION:2.0
PRODID:-//the timeless wonder - ECPv6.15.13//NONSGML v1.0//EN
CALSCALE:GREGORIAN
METHOD:PUBLISH
X-ORIGINAL-URL:https://thetimelesswonder.com
X-WR-CALDESC:Veranstaltungen für the timeless wonder
REFRESH-INTERVAL;VALUE=DURATION:PT1H
X-Robots-Tag:noindex
X-PUBLISHED-TTL:PT1H
BEGIN:VTIMEZONE
TZID:Europe/Berlin
BEGIN:DAYLIGHT
TZOFFSETFROM:+0100
TZOFFSETTO:+0200
TZNAME:CEST
DTSTART:20250330T010000
END:DAYLIGHT
BEGIN:STANDARD
TZOFFSETFROM:+0200
TZOFFSETTO:+0100
TZNAME:CET
DTSTART:20251026T010000
END:STANDARD
BEGIN:DAYLIGHT
TZOFFSETFROM:+0100
TZOFFSETTO:+0200
TZNAME:CEST
DTSTART:20260329T010000
END:DAYLIGHT
BEGIN:STANDARD
TZOFFSETFROM:+0200
TZOFFSETTO:+0100
TZNAME:CET
DTSTART:20261025T010000
END:STANDARD
BEGIN:DAYLIGHT
TZOFFSETFROM:+0100
TZOFFSETTO:+0200
TZNAME:CEST
DTSTART:20270328T010000
END:DAYLIGHT
BEGIN:STANDARD
TZOFFSETFROM:+0200
TZOFFSETTO:+0100
TZNAME:CET
DTSTART:20271031T010000
END:STANDARD
END:VTIMEZONE
BEGIN:VEVENT
DTSTART;VALUE=DATE:20261211
DTEND;VALUE=DATE:20261216
DTSTAMP:20260421T164434
CREATED:20250310T122617Z
LAST-MODIFIED:20260411T052826Z
UID:9308-1796947200-1797379199@thetimelesswonder.com
SUMMARY:Residential in Glastonbury/UK
DESCRIPTION:  \n  \n  \n  \n  \n  \n  \n  \nDas Residential in Compton Dundon findet statt von \n  \nFreitag\, 11. Dezember – Dienstag\, 15. Dezember 2026 \n  \nim wunderschönen Earthspirit Centre in der Nähe von Glastonbury statt. \n  \nSprache: Englisch! \n  \nWährend des Aufenthaltes finden täglich drei Gespräche mit Andreas statt (ca. 4 Stunden/Tag). Die Zeit dazwischen ist zur freien Verfügung. Außerdem findet sich Zeit für weitere Gespräche mit Andreas. \n  \nUnterbringung inkl. Vollpension: \nEinzelzimmer: Information folgt \nDoppelzimmer: Information folgt \nDreibettzimmer: Information folgt \nMehrbettzimmer: Information folgt \n  \nTalks mit Andreas: 300 GBP \n  \nDie Anzahl der Teilnehmer ist begrenzt. Nach Zahlung einer Anzahlung von 100 GPB ist die Buchung bestätigt. Im Falle einer Stornierung innerhalb von vier Wochen vor der Veranstaltung wird die Anzahlung nicht zurückerstattet. \n  \nInformationen und Buchung unter onenesstalks@hotmail.com. \n 
URL:https://thetimelesswonder.com/event/residential-in-compton-dundon-uk-bei-glastonbury/
LOCATION:Earthspirit Centre\, Peak Lane\, Compton Dundon\, TA11 6PE\, United Kingdom
CATEGORIES:Dates,Events,Glastonbury,Großbritannien,Intensiv,Orte,Orte,Residential in Glastonbury/UK
END:VEVENT
END:VCALENDAR