BEGIN:VCALENDAR
VERSION:2.0
PRODID:-//the timeless wonder - ECPv6.15.13//NONSGML v1.0//EN
CALSCALE:GREGORIAN
METHOD:PUBLISH
X-ORIGINAL-URL:https://thetimelesswonder.com
X-WR-CALDESC:Veranstaltungen für the timeless wonder
REFRESH-INTERVAL;VALUE=DURATION:PT1H
X-Robots-Tag:noindex
X-PUBLISHED-TTL:PT1H
BEGIN:VTIMEZONE
TZID:Europe/Berlin
BEGIN:DAYLIGHT
TZOFFSETFROM:+0100
TZOFFSETTO:+0200
TZNAME:CEST
DTSTART:20250330T010000
END:DAYLIGHT
BEGIN:STANDARD
TZOFFSETFROM:+0200
TZOFFSETTO:+0100
TZNAME:CET
DTSTART:20251026T010000
END:STANDARD
BEGIN:DAYLIGHT
TZOFFSETFROM:+0100
TZOFFSETTO:+0200
TZNAME:CEST
DTSTART:20260329T010000
END:DAYLIGHT
BEGIN:STANDARD
TZOFFSETFROM:+0200
TZOFFSETTO:+0100
TZNAME:CET
DTSTART:20261025T010000
END:STANDARD
BEGIN:DAYLIGHT
TZOFFSETFROM:+0100
TZOFFSETTO:+0200
TZNAME:CEST
DTSTART:20270328T010000
END:DAYLIGHT
BEGIN:STANDARD
TZOFFSETFROM:+0200
TZOFFSETTO:+0100
TZNAME:CET
DTSTART:20271031T010000
END:STANDARD
END:VTIMEZONE
BEGIN:VEVENT
DTSTART;VALUE=DATE:20261028
DTEND;VALUE=DATE:20261102
DTSTAMP:20260421T150406
CREATED:20190222T130953Z
LAST-MODIFIED:20260410T071410Z
UID:693-1793145600-1793577599@thetimelesswonder.com
SUMMARY:Herbst-Intensiv in Murrhardt
DESCRIPTION:Herbst-Intensiv in Murrhardt\n  \nDieses Intensiv findet statt von \n  \nMittwoch\, dem 28.10. – Sonntag\, dem 1.11.2026\n  \nim Seminarhaus Kieselhof. \n  \nDer Kieselhof liegt wunderschön auf herrlicher Hochlage im Naturpark Schwäbisch-Fränkischer Wald\, etwa 1 Autostunde nordöstlich von Stuttgart. Das Anwesen ist ein ehemaliger\, mittlerweile zum Seminarhaus umgebauter Bauernhof. Die Umgebung lädt ein zu ausgedehnten Spaziergängen durch Wald und Wiesen. \n Die Verpflegung ist vegetarisch. \nWährend des Intensivs finden täglich zwei bis drei OnenessTalks mit Andreas statt. Die Zeit dazwischen steht zur freien Verfügung. Außerdem ergibt sich Zeit für weitere Gespräche mit Andreas. \n  \nÜbernachtung im EZ incl.Vollpension: 360 € p. Person \nÜbernachtung im DZ incl. Vollpension: 340 € p. Person \nÜbernachtung im 9-Bett-Zimmer incl. VP: 280 € p. Person\n \n  \nEmpfohlener Beitrag für die OnenessTalks: 240 € \n  \nDie Teilnehmerzahl ist begrenzt\, daher ist eine Anmeldung nötig. Nach Überweisung einer Anzahlung von 50 € ist die Buchung fix und wird bestätigt. Bei Rücktritt nach dem 30.9.2025 wird die Anzahlung einbehalten. \nMögliche Zahlweisen –> https://thetimelesswonder.com/bezahlung/ \n  \nInfo und Anmeldung: \n  \nOnenessTalks@hotmail.com \n 
URL:https://thetimelesswonder.com/event/oster-intensiv-in-murrhardt/
LOCATION:Seminarhaus Kieselhof\, Kieselhof 6\, Murrhardt\, 71540\, Deutschland
CATEGORIES:Deutschland,Herbst-Intensiv in Murrhardt,Intensiv,Murrhardt,Sommer-Intensiv in Murrhardt
END:VEVENT
END:VCALENDAR