BEGIN:VCALENDAR
VERSION:2.0
PRODID:-//the timeless wonder - ECPv6.15.13//NONSGML v1.0//EN
CALSCALE:GREGORIAN
METHOD:PUBLISH
X-ORIGINAL-URL:https://thetimelesswonder.com
X-WR-CALDESC:Veranstaltungen für the timeless wonder
REFRESH-INTERVAL;VALUE=DURATION:PT1H
X-Robots-Tag:noindex
X-PUBLISHED-TTL:PT1H
BEGIN:VTIMEZONE
TZID:Europe/Berlin
BEGIN:DAYLIGHT
TZOFFSETFROM:+0100
TZOFFSETTO:+0200
TZNAME:CEST
DTSTART:20230326T010000
END:DAYLIGHT
BEGIN:STANDARD
TZOFFSETFROM:+0200
TZOFFSETTO:+0100
TZNAME:CET
DTSTART:20231029T010000
END:STANDARD
BEGIN:DAYLIGHT
TZOFFSETFROM:+0100
TZOFFSETTO:+0200
TZNAME:CEST
DTSTART:20240331T010000
END:DAYLIGHT
BEGIN:STANDARD
TZOFFSETFROM:+0200
TZOFFSETTO:+0100
TZNAME:CET
DTSTART:20241027T010000
END:STANDARD
BEGIN:DAYLIGHT
TZOFFSETFROM:+0100
TZOFFSETTO:+0200
TZNAME:CEST
DTSTART:20250330T010000
END:DAYLIGHT
BEGIN:STANDARD
TZOFFSETFROM:+0200
TZOFFSETTO:+0100
TZNAME:CET
DTSTART:20251026T010000
END:STANDARD
END:VTIMEZONE
BEGIN:VEVENT
DTSTART;VALUE=DATE:20241206
DTEND;VALUE=DATE:20241209
DTSTAMP:20260419T180755
CREATED:20240626T095731Z
LAST-MODIFIED:20241121T222418Z
UID:7567-1733443200-1733702399@thetimelesswonder.com
SUMMARY:Intensiv-Wochenende in Aichtal/Stuttgart (englisch)
DESCRIPTION:  \n  \n  \n  \n  \n  \n  \nAichtal ist Andreas‘ Wohnort und liegt umgeben von wunderschöner Natur zwischen Stuttgart und der Schwäbischen Alb. Die Umgebung lädt ein zu Spaziergängen mit toller Aussicht. Am Intensiv-Wochenende in Aichtal finden mehrere Talks mit Andreas in englischer Sprache statt. \n  \nZeiten der Talks: \n  \nFreitag\, 6.12.: 20 – 21:30 Uhr \nBeitrag: 20 € \n  \nSamstag\, 7.12.: 10:30 – 12 Uhr\, 14 – 15:30 Uhr & 16:30 – 17:30 Uhr \nBeitrag: 60 € \n  \nSonntag\, 8.12.: 10:30 – 12 Uhr & 13:30 – 15 Uhr \nBeitrag: 40 € \n  \nBeitrag für die Talks: 110 € \n  \nDie Tage/Talks können einzeln besucht werden. Um Anmeldung wird gebeten unter: OnenessTalks@hotmail.com \n  \nSchöne Hotelzimmer finden sich wenige Meter vom Veranstaltungsort entfernt im Aichtaler Hof (–> http://www.hotel-aichtalerhof.de/). Parkplätze sind genügend vorhanden. \n  \nAichtal liegt im Süden von Stuttgart und ist über die B27 gut zu erreichen. Der Flughafen Stuttgart ist ca. 15 Minuten Autominuten von Aichtal entfernt und Aichtal ist auch mit dem ÖPNV gut zu erreichen. Auf Anfrage können Fahrgemeinschaften vermittelt werden. \n  \n  \n 
URL:https://thetimelesswonder.com/event/intensiv-wochenende-in-aichtal-englisch/
LOCATION:Mia-Raum Aichtal\, Aichbachwasen 2\, Aichtal\, 72631
CATEGORIES:Aichtal,Dates,Deutschland,Events,Intensiv,Intensiv-Wochenende in Aichtal,Intensiv-Wochenende in Aichtal (englisch),Orte,Orte,Stuttgart
END:VEVENT
END:VCALENDAR