BEGIN:VCALENDAR
VERSION:2.0
PRODID:-//the timeless wonder - ECPv6.15.13//NONSGML v1.0//EN
CALSCALE:GREGORIAN
METHOD:PUBLISH
X-WR-CALNAME:the timeless wonder
X-ORIGINAL-URL:https://thetimelesswonder.com
X-WR-CALDESC:Veranstaltungen für the timeless wonder
REFRESH-INTERVAL;VALUE=DURATION:PT1H
X-Robots-Tag:noindex
X-PUBLISHED-TTL:PT1H
BEGIN:VTIMEZONE
TZID:Europe/Berlin
BEGIN:DAYLIGHT
TZOFFSETFROM:+0100
TZOFFSETTO:+0200
TZNAME:CEST
DTSTART:20230326T010000
END:DAYLIGHT
BEGIN:STANDARD
TZOFFSETFROM:+0200
TZOFFSETTO:+0100
TZNAME:CET
DTSTART:20231029T010000
END:STANDARD
BEGIN:DAYLIGHT
TZOFFSETFROM:+0100
TZOFFSETTO:+0200
TZNAME:CEST
DTSTART:20240331T010000
END:DAYLIGHT
BEGIN:STANDARD
TZOFFSETFROM:+0200
TZOFFSETTO:+0100
TZNAME:CET
DTSTART:20241027T010000
END:STANDARD
BEGIN:DAYLIGHT
TZOFFSETFROM:+0100
TZOFFSETTO:+0200
TZNAME:CEST
DTSTART:20250330T010000
END:DAYLIGHT
BEGIN:STANDARD
TZOFFSETFROM:+0200
TZOFFSETTO:+0100
TZNAME:CET
DTSTART:20251026T010000
END:STANDARD
END:VTIMEZONE
BEGIN:VEVENT
DTSTART;VALUE=DATE:20240216
DTEND;VALUE=DATE:20240219
DTSTAMP:20260422T105748
CREATED:20211014T060744Z
LAST-MODIFIED:20230618T143828Z
UID:4550-1708041600-1708300799@thetimelesswonder.com
SUMMARY:OnenessTalks in Antibes
DESCRIPTION:  \n     \n  \n  \n  \n  \n  \n  \n  \n  \n  \n  \nFreitag\, 16.2.: :19 – 20:30 Uhr \nSamstag\, 17.2.: 14:30 – 18:00 Uhr \nSonntag\, 18.2.: 14:30 – 18:00 Uhr \n  \ninkl. Pause \n  \n15 € / Freitag \n45 € / Nachmittag \n90 € / alle Tage \n  \nSprache: Englisch mit französischer Übersetzung! \n  \nDie Tage können separat besucht werden. Eine Anmeldung ist nicht erforderlich.
URL:https://thetimelesswonder.com/event/onenesstalks-in-antibes/
LOCATION:Yam Yoga Antibes\, 32 Av. Reibaud\, Antibes\, 06600\, Frankreich
CATEGORIES:Dates,Events,Frankreich,Orte,Orte
END:VEVENT
END:VCALENDAR