BEGIN:VCALENDAR
VERSION:2.0
PRODID:-//the timeless wonder - ECPv6.15.13//NONSGML v1.0//EN
CALSCALE:GREGORIAN
METHOD:PUBLISH
X-ORIGINAL-URL:https://thetimelesswonder.com
X-WR-CALDESC:Veranstaltungen für the timeless wonder
REFRESH-INTERVAL;VALUE=DURATION:PT1H
X-Robots-Tag:noindex
X-PUBLISHED-TTL:PT1H
BEGIN:VTIMEZONE
TZID:Europe/Berlin
BEGIN:DAYLIGHT
TZOFFSETFROM:+0100
TZOFFSETTO:+0200
TZNAME:CEST
DTSTART:20220327T010000
END:DAYLIGHT
BEGIN:STANDARD
TZOFFSETFROM:+0200
TZOFFSETTO:+0100
TZNAME:CET
DTSTART:20221030T010000
END:STANDARD
BEGIN:DAYLIGHT
TZOFFSETFROM:+0100
TZOFFSETTO:+0200
TZNAME:CEST
DTSTART:20230326T010000
END:DAYLIGHT
BEGIN:STANDARD
TZOFFSETFROM:+0200
TZOFFSETTO:+0100
TZNAME:CET
DTSTART:20231029T010000
END:STANDARD
BEGIN:DAYLIGHT
TZOFFSETFROM:+0100
TZOFFSETTO:+0200
TZNAME:CEST
DTSTART:20240331T010000
END:DAYLIGHT
BEGIN:STANDARD
TZOFFSETFROM:+0200
TZOFFSETTO:+0100
TZNAME:CET
DTSTART:20241027T010000
END:STANDARD
END:VTIMEZONE
BEGIN:VEVENT
DTSTART;VALUE=DATE:20231010
DTEND;VALUE=DATE:20231013
DTSTAMP:20260422T225448
CREATED:20200324T115640Z
LAST-MODIFIED:20230924T113157Z
UID:2123-1696896000-1697155199@thetimelesswonder.com
SUMMARY:Zoom-Talk (englisch)
DESCRIPTION:Dienstag\, 10.10. – Donnerstag\, 12.10. \n  \njeweils  von 13 – 14 Uhr \n  \nSprache: englisch! \n  \nEmpfohlener Beitrag: 7 € / Talk  \n  \nJeder ist herzlich eingeladen teilzunehmen\, unabhängig davon\, wie viel gespendet werden kann. Diese Gespräche sind jedoch nur möglich\, wenn gespendet wird. \n–> http://paypal.me/thetimelesswonder \n–> andere Bezahlarten \n  \nDie Zoom-Talks werden aufgezeichnet und später auf Andreas‘ Patreon-Kanal veröffentlicht. Aufgezeichnet werden die Tonspur und Andreas‘ Bild. \n  \nLink zu Zoom –> https://us02web.zoom.us/j/88978683949 \n  \n  \n 
URL:https://thetimelesswonder.com/event/taeglicher-zoom-talk-2/
CATEGORIES:Dates,Events,Online,Online-Termine,Orte,Orte,Zoom-Talk
END:VEVENT
END:VCALENDAR